BEGIN:VCALENDAR
VERSION:2.0
PRODID:-//Christchurch Beekeepers Club - ECPv6.15.20//NONSGML v1.0//EN
CALSCALE:GREGORIAN
METHOD:PUBLISH
X-WR-CALNAME:Christchurch Beekeepers Club
X-ORIGINAL-URL:https://chchbeekeepers.org.nz
X-WR-CALDESC:Events for Christchurch Beekeepers Club
REFRESH-INTERVAL;VALUE=DURATION:PT1H
X-Robots-Tag:noindex
X-PUBLISHED-TTL:PT1H
BEGIN:VTIMEZONE
TZID:Pacific/Auckland
BEGIN:STANDARD
TZOFFSETFROM:+1300
TZOFFSETTO:+1200
TZNAME:NZST
DTSTART:20220402T140000
END:STANDARD
BEGIN:DAYLIGHT
TZOFFSETFROM:+1200
TZOFFSETTO:+1300
TZNAME:NZDT
DTSTART:20220924T140000
END:DAYLIGHT
BEGIN:STANDARD
TZOFFSETFROM:+1300
TZOFFSETTO:+1200
TZNAME:NZST
DTSTART:20230401T140000
END:STANDARD
BEGIN:DAYLIGHT
TZOFFSETFROM:+1200
TZOFFSETTO:+1300
TZNAME:NZDT
DTSTART:20230923T140000
END:DAYLIGHT
BEGIN:STANDARD
TZOFFSETFROM:+1300
TZOFFSETTO:+1200
TZNAME:NZST
DTSTART:20240406T140000
END:STANDARD
BEGIN:DAYLIGHT
TZOFFSETFROM:+1200
TZOFFSETTO:+1300
TZNAME:NZDT
DTSTART:20240928T140000
END:DAYLIGHT
END:VTIMEZONE
BEGIN:VEVENT
DTSTART;TZID=Pacific/Auckland:20231125T083000
DTEND;TZID=Pacific/Auckland:20231125T120000
DTSTAMP:20260426T093409
CREATED:20231124T081952Z
LAST-MODIFIED:20231124T081952Z
UID:1380-1700901000-1700913600@chchbeekeepers.org.nz
SUMMARY:Working bee
DESCRIPTION:Firstly  Thank you so much to everyone who has volunteered their time and nergy to making the club grounds look as good as they do. \nAnd thank you also for the volunteers and helpers at the A & P show.  The stand looked great and it couldn’t have been done without all our wonderful volunteers. \nThis Saturday at the club\, we plan to load up Jeffs truck and trailer with all the weeds and tree stumps that are still there\n.\nOther important jobs will be\nWindbreaks to be secured.\nSump to be cleared out\nSorting shed space \nSorting out library \nIf you have a weedeater please bring it along\, plus spades\, shovels\, forks\, pruning tool etc. \nJust as a reminder folks\nSubs are  due for the 2023/2024 season – please submit $45.00 online via the club website.  The account details are on the website –  just Press  the Join Button.\n\nThanks\n\nPlease contact me on 027 721 4338 if any queries.\n\nLee Carmichael
URL:https://chchbeekeepers.org.nz/event/working-bee-2/
LOCATION:Club\, 681 Cashmere Road\, Christchurch\, Canterbury\, 8025\, New Zealand
CATEGORIES:Working Bee
ATTACH;FMTTYPE=image/jpeg:https://chchbeekeepers.org.nz/wp-content/uploads/2020/10/working_bee.jpg
END:VEVENT
END:VCALENDAR