BEGIN:VCALENDAR
VERSION:2.0
PRODID:-//Christchurch Beekeepers Club - ECPv6.15.20//NONSGML v1.0//EN
CALSCALE:GREGORIAN
METHOD:PUBLISH
X-WR-CALNAME:Christchurch Beekeepers Club
X-ORIGINAL-URL:https://chchbeekeepers.org.nz
X-WR-CALDESC:Events for Christchurch Beekeepers Club
REFRESH-INTERVAL;VALUE=DURATION:PT1H
X-Robots-Tag:noindex
X-PUBLISHED-TTL:PT1H
BEGIN:VTIMEZONE
TZID:Pacific/Auckland
BEGIN:STANDARD
TZOFFSETFROM:+1300
TZOFFSETTO:+1200
TZNAME:NZST
DTSTART:20250405T140000
END:STANDARD
BEGIN:DAYLIGHT
TZOFFSETFROM:+1200
TZOFFSETTO:+1300
TZNAME:NZDT
DTSTART:20250927T140000
END:DAYLIGHT
BEGIN:STANDARD
TZOFFSETFROM:+1300
TZOFFSETTO:+1200
TZNAME:NZST
DTSTART:20260404T140000
END:STANDARD
BEGIN:DAYLIGHT
TZOFFSETFROM:+1200
TZOFFSETTO:+1300
TZNAME:NZDT
DTSTART:20260926T140000
END:DAYLIGHT
BEGIN:STANDARD
TZOFFSETFROM:+1300
TZOFFSETTO:+1200
TZNAME:NZST
DTSTART:20270403T140000
END:STANDARD
BEGIN:DAYLIGHT
TZOFFSETFROM:+1200
TZOFFSETTO:+1300
TZNAME:NZDT
DTSTART:20270925T140000
END:DAYLIGHT
END:VTIMEZONE
BEGIN:VEVENT
DTSTART;TZID=Pacific/Auckland:20260221T093000
DTEND;TZID=Pacific/Auckland:20260221T150000
DTSTAMP:20260422T204614
CREATED:20260203T014448Z
LAST-MODIFIED:20260203T094259Z
UID:1678-1771666200-1771686000@chchbeekeepers.org.nz
SUMMARY:Queen Rearing Course
DESCRIPTION:The club will be hosting a Queen Rearing Course on Saturday\, 21 February\, starting at 9:30 am\, held at the club. \nJeff will be running the course and will cover how to graft your own queens. Queen rearing can be one of the most rewarding skills in beekeeping — and if you do well\, you may even go home with a new queen. \nWhat to Bring\n\nBee suit\nPen and paper for notes\nYour own lunch\n\n☕ Tea and coffee will be provided. \nCost\n\nClub members: $70.00\nNon-members: $120.00\n\nPayment Details\nPayment must be made prior to attending the course. \n\nBank account: 03-0767-0323307\nPlease include your name and phone number as reference.\n\nBooking Confirmation\nTo confirm your place\, text your name to Jeff on 0210 734 148.Confirmation by text is essential. \n⚠️ This is the only queen course being run this season. \nCome and enjoy the challenge of one of beekeeping’s finest arts 🐝
URL:https://chchbeekeepers.org.nz/event/queen-rearing-course/
LOCATION:Club\, 681 Cashmere Road\, Christchurch\, Canterbury\, 8025\, New Zealand
CATEGORIES:Events
ATTACH;FMTTYPE=image/jpeg:https://chchbeekeepers.org.nz/wp-content/uploads/2022/03/Queen-raising-14.jpg
ORGANIZER;CN="Jeff Robinson":MAILTO:alpinebee@gmail.com
END:VEVENT
END:VCALENDAR